BEGIN:VCALENDAR
VERSION:2.0
PRODID:-//Tukios.com/
BEGIN:VEVENT
UID:ade47f66-6da9-4717-8129-bc6fde5580d1@www.wendtfuneralhome.com
DTSTAMP:20260420T192213Z
DTSTART:20260502T170000Z
DTEND:20260502T180000Z
SUMMARY:Luncheon
DESCRIPTION:
URL:https://www.wendtfuneralhome.com/obituaries/george-wendt-clu
LOCATION:Second Presyterian Church 404 N Prairie St  Bloomington IL 61701
GEO:40.481384;-88.991887
END:VEVENT
END:VCALENDAR