BEGIN:VCALENDAR
VERSION:2.0
PRODID:-//Tukios.com/
BEGIN:VEVENT
UID:2d470214-f200-4fe1-b172-f13e7d4361f8@www.wendtfuneralhome.com
DTSTAMP:20260420T191741Z
DTSTART:20260502T160000Z
DTEND:20260502T170000Z
SUMMARY:Funeral Service
DESCRIPTION:There will be a luncheon that follows the service.
URL:https://www.wendtfuneralhome.com/obituaries/george-wendt-clu
LOCATION:Second Presbyterian Church 404 North Prairie Street  Bloomington 
	IL 61701
GEO:40.481384;-88.991887
END:VEVENT
END:VCALENDAR