BEGIN:VCALENDAR
VERSION:2.0
PRODID:-//Tukios.com/
BEGIN:VEVENT
UID:9ee5309a-f092-4293-8b52-0de1b6f9f528@www.wendtfuneralhome.com
DTSTAMP:20260420T191747Z
DTSTART:20260502T140000Z
DTEND:20260502T160000Z
SUMMARY:Visitation
DESCRIPTION:
URL:https://www.wendtfuneralhome.com/obituaries/george-wendt-clu
LOCATION:Second Presbyterian Church 404 North Prairie Street  Bloomington 
	IL 61701
GEO:40.481384;-88.991887
END:VEVENT
END:VCALENDAR